BEGIN:VCALENDAR
VERSION:2.0
PRODID:icalendar-ruby
CALSCALE:GREGORIAN
METHOD:PUBLISH
BEGIN:VEVENT
DTSTAMP:20260422T131340Z
UID:83-739602@clichurch.com
DTSTART:20260426T030000Z
DTEND:20260426T043000Z
CLASS:PUBLIC
CREATED:20260422T185759
DESCRIPTION:DEAR CLIC LEADERS\;\nPLEASE NOTE THAT ATTENDANCE IS STRONGLY EN
 COURAGED AS WE SHARE KEY UPDATES AS WELL AS LAUNCH LEADERSHIP TRAINING ON 
 THE CHILDSAFE FRAMEWORK.\nLunch will be available BUT you must pre-order. 
 Payment will be required. Please refer to the CLIC Family Chat Group on Wh
 atsApp for more information. Thank you.
LAST-MODIFIED:20260422T185759
LOCATION:CLIC\, 23-25 Intrepid Street\, Berwick
SUMMARY:CLIC ALL LEADERS MEETING
URL;VALUE=URI:https://www.clichurch.com/events/clic-all-leaders-meeting/202
 6-04-26
ATTACH;FILENAME=04-26-26_ALL-LEADERS-MEETING-announcement.jpg;FMTTYPE=image
 /jpeg:https://dq5pwpg1q8ru0.cloudfront.net/2026/04/22/08/57/59/e19ea94c-d0
 2e-4d33-8be3-ff3ebc5369dd/04-26-26_ALL-LEADERS-MEETING-announcement.jpg
END:VEVENT
END:VCALENDAR
